BEGIN:VCALENDAR
PRODID:brasil.gov.agenda
VERSION:1.0
BEGIN:VEVENT
DTSTART:20210121T140000Z
DTEND:20210121T160000Z
DCREATED:20210121T120857Z
UID:Compromisso-73887046ba164efab11753bb43abba0d
SEQUENCE:0
LAST-MODIFIED:20210121T120857Z
SUMMARY:Cerimônia de inauguração do Núcleo de Estudos e Projeto de Zoneamento Ambiental e Produtivo - NEPZAP/UFVJM
LOCATION:Compromisso online
PRIORITY:3
TRANSP:0
END:VEVENT
END:VCALENDAR
