BEGIN:VCALENDAR
PRODID:brasil.gov.agenda
VERSION:1.0
BEGIN:VEVENT
DTSTART:20210119T000000Z
DTEND:20210119T000000Z
DCREATED:20210119T114453Z
UID:Compromisso-430cbc186bb640ee8693e9663b2cedea
SEQUENCE:0
LAST-MODIFIED:20210119T114453Z
SUMMARY:Férias regulamentares
PRIORITY:3
TRANSP:0
END:VEVENT
END:VCALENDAR
