BEGIN:VCALENDAR
PRODID:brasil.gov.agenda
VERSION:1.0
BEGIN:VEVENT
DTSTART:20210114T000000Z
DTEND:20210114T000000Z
DCREATED:20210114T111754Z
UID:Compromisso-4971444bc8374720a3fcd69cb9b36349
SEQUENCE:0
LAST-MODIFIED:20210114T111754Z
SUMMARY:Férias regulamentares
LOCATION:Reitoria
PRIORITY:3
TRANSP:0
END:VEVENT
END:VCALENDAR
