BEGIN:VCALENDAR
PRODID:brasil.gov.agenda
VERSION:1.0
BEGIN:VEVENT
DTSTART:20210113T000000Z
DTEND:20210113T000000Z
DCREATED:20210113T123449Z
UID:Compromisso-88d65ae225b4418cb6c5cb77e17bafb9
SEQUENCE:0
LAST-MODIFIED:20210113T123508Z
SUMMARY:Férias regulamentares
PRIORITY:3
TRANSP:0
END:VEVENT
END:VCALENDAR
