BEGIN:VCALENDAR
PRODID:brasil.gov.agenda
VERSION:1.0
BEGIN:VEVENT
DTSTART:20210112T090000Z
DTEND:20210112T100000Z
DCREATED:20210112T113350Z
UID:Compromisso-2b5319b6df3c4cec97ec7ebd5bfcb738
SEQUENCE:0
LAST-MODIFIED:20210112T113350Z
SUMMARY:Reunião com a Congregação da FCBS
DESCRIPTION:Espaços do Campus I demais cursos FCBS
LOCATION:Compromisso online
PRIORITY:3
TRANSP:0
END:VEVENT
END:VCALENDAR
