BEGIN:VCALENDAR
PRODID:brasil.gov.agenda
VERSION:1.0
BEGIN:VEVENT
DTSTART:20210111T090000Z
DTEND:20210111T100000Z
DCREATED:20210111T120745Z
UID:Compromisso-076d12473ba846278a2ac4079d7ecec2
SEQUENCE:0
LAST-MODIFIED:20210111T120954Z
SUMMARY:Reunião com membros da PROAD e representantes do curso de Odontologia
DESCRIPTION:Espaços do Campus I
LOCATION:Compromisso online
PRIORITY:3
TRANSP:0
END:VEVENT
END:VCALENDAR
