BEGIN:VCALENDAR
PRODID:brasil.gov.agenda
VERSION:1.0
BEGIN:VEVENT
DTSTART:20210111T080000Z
DTEND:20210111T090000Z
DCREATED:20210111T120917Z
UID:Compromisso-64fa6277873f42729001b9223ad98390
SEQUENCE:0
LAST-MODIFIED:20210111T120917Z
SUMMARY:Despachos Internos
LOCATION:Reitoria
PRIORITY:3
TRANSP:0
END:VEVENT
END:VCALENDAR
