BEGIN:VCALENDAR
PRODID:brasil.gov.agenda
VERSION:1.0
BEGIN:VEVENT
DTSTART:20210111T150000Z
DTEND:20210111T160000Z
DCREATED:20210111T121011Z
UID:Compromisso-927011860b3044b0a2406510e9b9c97a
SEQUENCE:0
LAST-MODIFIED:20210111T135025Z
SUMMARY:Reunião na Prefeitura Municipal de Diamantina/MG
DESCRIPTION:Alinhamento - Combate à pandemia do novo Coronavírus
LOCATION:Prefeitura - Diamantina/MG
PRIORITY:3
TRANSP:0
END:VEVENT
END:VCALENDAR
