BEGIN:VCALENDAR
PRODID:brasil.gov.agenda
VERSION:1.0
BEGIN:VEVENT
DTSTART:20210108T080000Z
DTEND:20210108T100000Z
DCREATED:20210108T113112Z
UID:Compromisso-0761ba0a81f642a6a2fa1fc9a1f821ca
SEQUENCE:0
LAST-MODIFIED:20210108T113112Z
SUMMARY:Reunião com o senhor Henrique Fraga
DESCRIPTION:Projeto no Ministério da Agricultura
LOCATION:Reitoria
PRIORITY:3
TRANSP:0
END:VEVENT
END:VCALENDAR
