BEGIN:VCALENDAR
PRODID:brasil.gov.agenda
VERSION:1.0
BEGIN:VEVENT
DTSTART:20210108T140000Z
DTEND:20210108T150000Z
DCREATED:20210108T113451Z
UID:Compromisso-2cd7b08f64f046f38bccab29d222eb5e
SEQUENCE:0
LAST-MODIFIED:20210108T113620Z
SUMMARY:Reunião com o assessor do vice-governador do Estado de Minas Gerais
DESCRIPTION:Projetos de desenvolvimento
LOCATION:Compromisso online
PRIORITY:3
TRANSP:0
END:VEVENT
END:VCALENDAR
