BEGIN:VCALENDAR
PRODID:brasil.gov.agenda
VERSION:1.0
BEGIN:VEVENT
DTSTART:20210108T160000Z
DTEND:20210108T170000Z
DCREATED:20210108T113637Z
UID:Compromisso-64dd0a81dffe4a84914e7f0734feeda0
SEQUENCE:0
LAST-MODIFIED:20210108T190900Z
SUMMARY:Reunião com discentes da FAMMUC
LOCATION:Compromisso online
PRIORITY:3
TRANSP:0
END:VEVENT
END:VCALENDAR
