BEGIN:VCALENDAR
PRODID:brasil.gov.agenda
VERSION:1.0
BEGIN:VEVENT
DTSTART:20210107T000000Z
DTEND:20210107T000000Z
DCREATED:20210107T160513Z
UID:Compromisso-ef530b5309dc485f88f6554d4a805ae0
SEQUENCE:0
LAST-MODIFIED:20210107T160513Z
SUMMARY:Férias regulamentares
PRIORITY:3
TRANSP:0
END:VEVENT
END:VCALENDAR
