BEGIN:VCALENDAR
PRODID:brasil.gov.agenda
VERSION:1.0
BEGIN:VEVENT
DTSTART:20201223T090000Z
DTEND:20201223T100000Z
DCREATED:20201223T113101Z
UID:Compromisso-2b85cac7d5b741b3b946240b98e1458a
SEQUENCE:0
LAST-MODIFIED:20201223T114232Z
SUMMARY:Reunião com o Presidente do Sicoob
DESCRIPTION:Parceria SICOOB/FUNDAEPE/UFVJM
LOCATION:Reitoria
PRIORITY:3
TRANSP:0
END:VEVENT
END:VCALENDAR
