BEGIN:VCALENDAR
PRODID:brasil.gov.agenda
VERSION:1.0
BEGIN:VEVENT
DTSTART:20201223T160000Z
DTEND:20201223T180000Z
DCREATED:20201223T151251Z
UID:Compromisso-6bb1e27791fa4a73907d5cfb29c5a586
SEQUENCE:0
LAST-MODIFIED:20201223T151251Z
SUMMARY:Despachos Internos
LOCATION:Reitoria
PRIORITY:3
TRANSP:0
END:VEVENT
END:VCALENDAR
