BEGIN:VCALENDAR
PRODID:brasil.gov.agenda
VERSION:1.0
BEGIN:VEVENT
DTSTART:20201223T140000Z
DTEND:20201223T150000Z
DCREATED:20201223T151222Z
UID:Compromisso-72b2f33d9c094ac48fa40bcf0b00fe44
SEQUENCE:0
LAST-MODIFIED:20201223T151222Z
SUMMARY:Despachos Internos
LOCATION:Reitoria
PRIORITY:3
TRANSP:0
END:VEVENT
END:VCALENDAR
