BEGIN:VCALENDAR
PRODID:brasil.gov.agenda
VERSION:1.0
BEGIN:VEVENT
DTSTART:20201223T150000Z
DTEND:20201223T160000Z
DCREATED:20201223T113715Z
UID:Compromisso-299b817a4663446ca78412f3972ccbac
SEQUENCE:0
LAST-MODIFIED:20201223T190557Z
SUMMARY:[ADIADA] - Reunião com o senhor Henrique Fraga
DESCRIPTION:Projeto no Ministério da Agricultura
LOCATION:Compromisso online
PRIORITY:3
TRANSP:0
END:VEVENT
END:VCALENDAR
