BEGIN:VCALENDAR
PRODID:brasil.gov.agenda
VERSION:1.0
BEGIN:VEVENT
DTSTART:20201222T143000Z
DTEND:20201222T153000Z
DCREATED:20201222T122942Z
UID:Compromisso-4e18bd09303341be989fc847f4b88f8a
SEQUENCE:0
LAST-MODIFIED:20201222T122942Z
SUMMARY:Sessão de posse
DESCRIPTION:Posse de Professor do Magistério Superior
LOCATION:Reitoria
PRIORITY:3
TRANSP:0
END:VEVENT
END:VCALENDAR
