BEGIN:VCALENDAR
PRODID:brasil.gov.agenda
VERSION:1.0
BEGIN:VEVENT
DTSTART:20201222T090000Z
DTEND:20201222T100000Z
DCREATED:20201222T113453Z
UID:Compromisso-944e083320ad439681866858905cf83b
SEQUENCE:0
LAST-MODIFIED:20201222T113454Z
SUMMARY:Reunião com a Congregação da FCBS
DESCRIPTION:Planejamento de  Práticas de Saúde Integradas nos Espaç
 os do Campus I.
LOCATION:Compromisso online
PRIORITY:3
TRANSP:0
END:VEVENT
END:VCALENDAR
