BEGIN:VCALENDAR
PRODID:brasil.gov.agenda
VERSION:1.0
BEGIN:VEVENT
DTSTART:20201221T100000Z
DTEND:20201221T110000Z
DCREATED:20201221T113100Z
UID:Compromisso-44c7bc316de9418ba1f3702c4b729169
SEQUENCE:0
LAST-MODIFIED:20201221T113100Z
SUMMARY:ReuniĆ£o com docente
DESCRIPTION:Setor produtivo: ovinocultura de corte e pequenas instalaĆ
 §Ćµes.
LOCATION:Compromisso online
PRIORITY:3
TRANSP:0
END:VEVENT
END:VCALENDAR
