BEGIN:VCALENDAR
PRODID:brasil.gov.agenda
VERSION:1.0
BEGIN:VEVENT
DTSTART:20201218T100000Z
DTEND:20201218T110000Z
DCREATED:20201216T134337Z
UID:Compromisso-ef04bb0cbcf44247b1531a4f4be09dd0
SEQUENCE:0
LAST-MODIFIED:20201216T134425Z
SUMMARY:Reunião com a Faculdade de Ciências Biológicas e da Saúde (FCBS)
DESCRIPTION:Planejamento de  Práticas de Saúde Integradas nos Espaç
 os do Campus I.
LOCATION:Compromisso online
PRIORITY:3
TRANSP:0
END:VEVENT
END:VCALENDAR
