BEGIN:VCALENDAR
PRODID:brasil.gov.agenda
VERSION:1.0
BEGIN:VEVENT
DTSTART:20201218T154000Z
DTEND:20201218T180000Z
DCREATED:20201216T134538Z
UID:Compromisso-82889c4f48ea4ef88fb6804bc04f39f4
SEQUENCE:0
LAST-MODIFIED:20201217T115533Z
SUMMARY:Participação no evento de Lançamento do programa Plantando Águas para o  São Francisco – Inovação em Restauração Florestal e Conservação do  Solo para a Segurança Hídrica
DESCRIPTION:Segue a programação do evento.
LOCATION:Diamantina/MG
PRIORITY:3
TRANSP:0
END:VEVENT
END:VCALENDAR
