BEGIN:VCALENDAR
PRODID:brasil.gov.agenda
VERSION:1.0
BEGIN:VEVENT
DTSTART:20201217T000000Z
DTEND:20201217T000000Z
DCREATED:20201217T111945Z
UID:Compromisso-ddbf7ade87324c57bb9e3e8ebaa88f31
SEQUENCE:0
LAST-MODIFIED:20201217T112405Z
SUMMARY:Viagem a Brasília (DF) - Retorno a Diamantina
LOCATION:Em trânsito
PRIORITY:3
TRANSP:0
END:VEVENT
END:VCALENDAR
