BEGIN:VCALENDAR
PRODID:brasil.gov.agenda
VERSION:1.0
BEGIN:VEVENT
DTSTART:20201216T080000Z
DTEND:20201216T180000Z
DCREATED:20201215T115209Z
UID:Compromisso-063200f034714e97a95985b53462c1c6
SEQUENCE:0
LAST-MODIFIED:20201215T115209Z
SUMMARY:Viagem a Brasília (DF)
DESCRIPTION:Visita a parlamentares para solicitação de emenda parlam
 entar e apresentação de projetos ao Ministério da Educação e ao M
 inistério da Saúde.
LOCATION:Esplanada dos Ministérios
PRIORITY:3
TRANSP:0
END:VEVENT
END:VCALENDAR
