BEGIN:VCALENDAR
PRODID:brasil.gov.agenda
VERSION:1.0
BEGIN:VEVENT
DTSTART:20201214T090000Z
DTEND:20201214T180000Z
DCREATED:20201214T165439Z
UID:Compromisso-3f5d03680c0a42c4b8871f967ff02ba1
SEQUENCE:0
LAST-MODIFIED:20201214T171444Z
SUMMARY:Viagem a Brasília (DF) - Percurso de Ida
DESCRIPTION:Visita a parlamentares para solicitação de emenda parlam
 entar e apresentação de projetos ao Ministério da Educação e ao M
 inistério da Saúde.
LOCATION:Brasília - DF - Esplanada dos Ministérios
PRIORITY:3
TRANSP:0
END:VEVENT
END:VCALENDAR
