BEGIN:VCALENDAR
PRODID:brasil.gov.agenda
VERSION:1.0
BEGIN:VEVENT
DTSTART:20201214T080000Z
DTEND:20201214T090000Z
DCREATED:20201214T165236Z
UID:Compromisso-aaa798392d0d45f4a3264cc5f9add2bc
SEQUENCE:0
LAST-MODIFIED:20201214T165236Z
SUMMARY:Despachos Internos
LOCATION:Reitoria
PRIORITY:3
TRANSP:0
END:VEVENT
END:VCALENDAR
