BEGIN:VCALENDAR
PRODID:brasil.gov.agenda
VERSION:1.0
BEGIN:VEVENT
DTSTART:20201211T143000Z
DTEND:20201211T150000Z
DCREATED:20201211T182014Z
UID:Compromisso-058b56d01aa746f293a4ee1126a48c15
SEQUENCE:0
LAST-MODIFIED:20201211T183620Z
SUMMARY:Sessão de posse
DESCRIPTION:Posse de Professor do Magistério Superior: Fernanda Aruei
 ra
LOCATION:Reitoria
PRIORITY:3
TRANSP:0
END:VEVENT
END:VCALENDAR
