BEGIN:VCALENDAR
PRODID:brasil.gov.agenda
VERSION:1.0
BEGIN:VEVENT
DTSTART:20201211T090000Z
DTEND:20201211T100000Z
DCREATED:20201210T211150Z
UID:Compromisso-1b71b157c59e4f25b08e935ee35cc2cd
SEQUENCE:0
LAST-MODIFIED:20201210T211150Z
SUMMARY:Reunião de Alinhamento Interno
DESCRIPTION:Critérios para distribuição de vagas docente - Inquéri
 to Civil n.° 1.22.011.000201/2019-83 - Resposta ao MPF
LOCATION:Compromisso on-line
PRIORITY:3
TRANSP:0
END:VEVENT
END:VCALENDAR
