BEGIN:VCALENDAR
PRODID:brasil.gov.agenda
VERSION:1.0
BEGIN:VEVENT
DTSTART:20201211T140000Z
DTEND:20201211T170000Z
DCREATED:20201211T181524Z
UID:Compromisso-bffb5758c48e41948598c4f55996155f
SEQUENCE:0
LAST-MODIFIED:20201211T181524Z
SUMMARY:Abertura da Reunião 154ª reunião\, sendo a 118ª em caráter ordinário do CONSEPE
LOCATION:Compromisso on-line
PRIORITY:3
TRANSP:0
END:VEVENT
END:VCALENDAR
