BEGIN:VCALENDAR
PRODID:brasil.gov.agenda
VERSION:1.0
BEGIN:VEVENT
DTSTART:20201210T110000Z
DTEND:20201210T120000Z
DCREATED:20201210T135308Z
UID:Compromisso-097f532123aa40bc921f35b532d08a81
SEQUENCE:0
LAST-MODIFIED:20201210T135308Z
SUMMARY:Reunião com a AMAJE  e  CII-AMAJE
PRIORITY:3
TRANSP:0
END:VEVENT
END:VCALENDAR
