BEGIN:VCALENDAR
PRODID:brasil.gov.agenda
VERSION:1.0
BEGIN:VEVENT
DTSTART:20201210T140000Z
DTEND:20201210T180000Z
DCREATED:20201210T135342Z
UID:Compromisso-e01bbcf359ae410280d6d5ab4d5eb8dc
SEQUENCE:0
LAST-MODIFIED:20201210T135342Z
SUMMARY:Despachos Internos
LOCATION:Reitoria
PRIORITY:3
TRANSP:0
END:VEVENT
END:VCALENDAR
