BEGIN:VCALENDAR
PRODID:brasil.gov.agenda
VERSION:1.0
BEGIN:VEVENT
DTSTART:20201209T100000Z
DTEND:20201209T124000Z
DCREATED:20201209T174849Z
UID:Compromisso-818876adfce04ed88a614b5810e69e42
SEQUENCE:0
LAST-MODIFIED:20201209T175136Z
SUMMARY:ReuniÃ£o com a PrÃ³-Reitoria de AdministraÃ§Ã£o/PROAD
DESCRIPTION:Contrato 034/2018 â€“ FM Engenharia â€“ Obra de construÃ§Ã
 £o do prÃ©dio da medicina/Campus Mucuri
LOCATION:Compromisso on-line
PRIORITY:3
TRANSP:0
END:VEVENT
END:VCALENDAR
