BEGIN:VCALENDAR
PRODID:brasil.gov.agenda
VERSION:1.0
BEGIN:VEVENT
DTSTART:20201204T080000Z
DTEND:20201204T120000Z
DCREATED:20201203T145156Z
UID:Compromisso-5594eda9e4fe47289052b0a6ec1d54d4
SEQUENCE:0
LAST-MODIFIED:20201203T145157Z
SUMMARY:Despachos Internos
LOCATION:Reitoria
PRIORITY:3
TRANSP:0
END:VEVENT
END:VCALENDAR
