BEGIN:VCALENDAR
PRODID:brasil.gov.agenda
VERSION:1.0
BEGIN:VEVENT
DTSTART:20201204T140000Z
DTEND:20201204T190000Z
DCREATED:20201203T145104Z
UID:Compromisso-ace806da4bba48ef9dc08fbbd8101508
SEQUENCE:0
LAST-MODIFIED:20201203T145131Z
SUMMARY:225ª reunião\, sendo a 136ª sessão em caráter ordinário do Conselho Universitário (CONSU)
LOCATION:Compromisso on-line
PRIORITY:3
TRANSP:0
END:VEVENT
END:VCALENDAR
