BEGIN:VCALENDAR
PRODID:brasil.gov.agenda
VERSION:1.0
BEGIN:VEVENT
DTSTART:20201202T160000Z
DTEND:20201202T170000Z
DCREATED:20201201T112727Z
UID:Compromisso-1d55c04ce9a24e379282d01cfb3d3303
SEQUENCE:0
LAST-MODIFIED:20201201T112811Z
SUMMARY:Reunião com Ministro de Estado da Educação\, Milton Ribeiro
DESCRIPTION:Visita de cortesia e apresentar algumas possibilidades de 
 atuação da UFVJM em sua área de abrangência\, por meio de projetos
  e ações de interesse coletivo.
LOCATION:Brasília - DF - Esplanada dos Ministérios\, Bloco L\, Gabinete do Ministro\, 8º andar
PRIORITY:3
TRANSP:0
END:VEVENT
END:VCALENDAR
