BEGIN:VCALENDAR
PRODID:brasil.gov.agenda
VERSION:1.0
BEGIN:VEVENT
DTSTART:20201201T080000Z
DTEND:20201201T170000Z
DCREATED:20201201T112930Z
UID:Compromisso-4b13d593d51340c28a57213bfb8fad73
SEQUENCE:0
LAST-MODIFIED:20201201T112930Z
SUMMARY:Deslocamento para Brasília/DF
PRIORITY:3
TRANSP:0
END:VEVENT
END:VCALENDAR
