BEGIN:VCALENDAR
PRODID:brasil.gov.agenda
VERSION:1.0
BEGIN:VEVENT
DTSTART:20201130T080000Z
DTEND:20201130T120000Z
DCREATED:20201130T111553Z
UID:Compromisso-9e9c8cef47624c56899b8cd06b9975f1
SEQUENCE:0
LAST-MODIFIED:20201130T111714Z
SUMMARY:Despachos Internos
LOCATION:Reitoria
PRIORITY:3
TRANSP:0
END:VEVENT
END:VCALENDAR
