BEGIN:VCALENDAR
PRODID:brasil.gov.agenda
VERSION:1.0
BEGIN:VEVENT
DTSTART:20201130T140000Z
DTEND:20201130T180000Z
DCREATED:20201130T111738Z
UID:Compromisso-c3f6f69d5efd4acea5cc300d1b1fda5a
SEQUENCE:0
LAST-MODIFIED:20201130T111738Z
SUMMARY:Despachos Internos
LOCATION:Reitoria
PRIORITY:3
TRANSP:0
END:VEVENT
END:VCALENDAR
