BEGIN:VCALENDAR
PRODID:brasil.gov.agenda
VERSION:1.0
BEGIN:VEVENT
DTSTART:20201126T083000Z
DTEND:20201126T100000Z
DCREATED:20201126T114242Z
UID:Compromisso-6a52e5880de74685bf5c216c2a6f2e3b
SEQUENCE:0
LAST-MODIFIED:20201126T114318Z
SUMMARY:Reunião com as pró-reitorias PROAD e PROPLAN
DESCRIPTION:Apresentação de demandas
LOCATION:Reitoria
PRIORITY:3
TRANSP:0
END:VEVENT
END:VCALENDAR
