BEGIN:VCALENDAR
PRODID:brasil.gov.agenda
VERSION:1.0
BEGIN:VEVENT
DTSTART:20201126T140000Z
DTEND:20201126T180000Z
DCREATED:20201126T115102Z
UID:Compromisso-0bae7a9dbfe345759c10ca73b967484d
SEQUENCE:0
LAST-MODIFIED:20201126T115102Z
SUMMARY:Despachos Internos
LOCATION:Reitoria
PRIORITY:3
TRANSP:0
END:VEVENT
END:VCALENDAR
