BEGIN:VCALENDAR
PRODID:brasil.gov.agenda
VERSION:1.0
BEGIN:VEVENT
DTSTART:20201124T090000Z
DTEND:20201124T100000Z
DCREATED:20201124T120110Z
UID:Compromisso-d7b7586e931c41298337477c05205ef8
SEQUENCE:0
LAST-MODIFIED:20201124T120110Z
SUMMARY:Reunião com a Diretoria de Educação Aberta e a Distância (DEAD)
DESCRIPTION:Estudo de demanda para oferta de cursos EAD no território
  de atuação da UFVJM
LOCATION:Compromisso on-line
PRIORITY:3
TRANSP:0
END:VEVENT
END:VCALENDAR
