BEGIN:VCALENDAR
PRODID:brasil.gov.agenda
VERSION:1.0
BEGIN:VEVENT
DTSTART:20201124T080000Z
DTEND:20201124T090000Z
DCREATED:20201124T115857Z
UID:Compromisso-1f0747c75a9143558deeae16104769da
SEQUENCE:0
LAST-MODIFIED:20201124T115857Z
SUMMARY:Despachos Internos
LOCATION:Reitoria
PRIORITY:3
TRANSP:0
END:VEVENT
END:VCALENDAR
