BEGIN:VCALENDAR
PRODID:brasil.gov.agenda
VERSION:1.0
BEGIN:VEVENT
DTSTART:20201124T140000Z
DTEND:20201124T180000Z
DCREATED:20201124T120202Z
UID:Compromisso-36a7ef92864149849ebca55a7f8e24ff
SEQUENCE:0
LAST-MODIFIED:20201124T120202Z
SUMMARY:Despachos Internos
LOCATION:Reitoria
PRIORITY:3
TRANSP:0
END:VEVENT
END:VCALENDAR
