BEGIN:VCALENDAR
PRODID:brasil.gov.agenda
VERSION:1.0
BEGIN:VEVENT
DTSTART:20201124T100000Z
DTEND:20201124T120000Z
DCREATED:20201124T120138Z
UID:Compromisso-dee02d95cf614fe7a22feac49c7ac034
SEQUENCE:0
LAST-MODIFIED:20201124T120138Z
SUMMARY:Despachos Internos
LOCATION:Reitoria
PRIORITY:3
TRANSP:0
END:VEVENT
END:VCALENDAR
