BEGIN:VCALENDAR
PRODID:brasil.gov.agenda
VERSION:1.0
BEGIN:VEVENT
DTSTART:20201123T160000Z
DTEND:20201123T170000Z
DCREATED:20201123T171803Z
UID:Compromisso-6303dc9a09854ecfb6fb7087e6d637aa
SEQUENCE:0
LAST-MODIFIED:20201123T172316Z
SUMMARY:Reunião de Alinhamento Interno
LOCATION:Reitoria
PRIORITY:3
TRANSP:0
END:VEVENT
END:VCALENDAR
