BEGIN:VCALENDAR
PRODID:brasil.gov.agenda
VERSION:1.0
BEGIN:VEVENT
DTSTART:20201123T083000Z
DTEND:20201123T100000Z
DCREATED:20201123T112734Z
UID:Compromisso-da7b67fdf03346a0961cb51851784446
SEQUENCE:0
LAST-MODIFIED:20201123T112735Z
SUMMARY:Reunião com a Diretoria de Tecnologia da Informação (DTI)
DESCRIPTION:Finalizar a apresentação de relatório
LOCATION:Reitoria
PRIORITY:3
TRANSP:0
END:VEVENT
END:VCALENDAR
