BEGIN:VCALENDAR
PRODID:brasil.gov.agenda
VERSION:1.0
BEGIN:VEVENT
DTSTART:20201123T110000Z
DTEND:20201123T120000Z
DCREATED:20201123T112807Z
UID:Compromisso-6c9895e827924beabdf0d207963e8778
SEQUENCE:0
LAST-MODIFIED:20201123T112807Z
SUMMARY:Despachos Internos
LOCATION:Reitoria
PRIORITY:3
TRANSP:0
END:VEVENT
END:VCALENDAR
