BEGIN:VCALENDAR
PRODID:brasil.gov.agenda
VERSION:1.0
BEGIN:VEVENT
DTSTART:20201123T140000Z
DTEND:20201123T180000Z
DCREATED:20201123T112834Z
UID:Compromisso-4f031633425c409a99f78766b9b2e74a
SEQUENCE:0
LAST-MODIFIED:20201123T112834Z
SUMMARY:Despachos Internos
LOCATION:Reitoria
PRIORITY:3
TRANSP:0
END:VEVENT
END:VCALENDAR
