BEGIN:VCALENDAR
PRODID:brasil.gov.agenda
VERSION:1.0
BEGIN:VEVENT
DTSTART:20201120T100000Z
DTEND:20201120T110000Z
DCREATED:20201120T112841Z
UID:Compromisso-790cfe70f315408191008946e3d2b362
SEQUENCE:0
LAST-MODIFIED:20201120T112841Z
SUMMARY:Reunião com a Faculdade de Medicina de Diamantina (FAMED)
DESCRIPTION:Colação de grau
LOCATION:Reitoria
PRIORITY:3
TRANSP:0
END:VEVENT
END:VCALENDAR
