BEGIN:VCALENDAR
PRODID:brasil.gov.agenda
VERSION:1.0
BEGIN:VEVENT
DTSTART:20201120T080000Z
DTEND:20201120T100000Z
DCREATED:20201120T112710Z
UID:Compromisso-1e0046d0ef554a4f84519bf77f375e3f
SEQUENCE:0
LAST-MODIFIED:20201120T112710Z
SUMMARY:Despachos Internos
LOCATION:Reitoria
PRIORITY:3
TRANSP:0
END:VEVENT
END:VCALENDAR
