BEGIN:VCALENDAR
PRODID:brasil.gov.agenda
VERSION:1.0
BEGIN:VEVENT
DTSTART:20201120T140000Z
DTEND:20201120T180000Z
DCREATED:20201120T113020Z
UID:Compromisso-1322c3598a8d4284b677b8c528ccdded
SEQUENCE:0
LAST-MODIFIED:20201120T113020Z
SUMMARY:Despachos Internos
LOCATION:Reitoria
PRIORITY:3
TRANSP:0
END:VEVENT
END:VCALENDAR
